BEGIN:VCALENDAR
VERSION:2.0
PRODID:-//Arising Youth - ECPv6.15.20//NONSGML v1.0//EN
CALSCALE:GREGORIAN
METHOD:PUBLISH
X-WR-CALNAME:Arising Youth
X-ORIGINAL-URL:https://arisingyouths.com
X-WR-CALDESC:Events for Arising Youth
REFRESH-INTERVAL;VALUE=DURATION:PT1H
X-Robots-Tag:noindex
X-PUBLISHED-TTL:PT1H
BEGIN:VTIMEZONE
TZID:UTC
BEGIN:STANDARD
TZOFFSETFROM:+0000
TZOFFSETTO:+0000
TZNAME:UTC
DTSTART:20230101T000000
END:STANDARD
END:VTIMEZONE
BEGIN:VTIMEZONE
TZID:Europe/London
BEGIN:DAYLIGHT
TZOFFSETFROM:+0000
TZOFFSETTO:+0100
TZNAME:BST
DTSTART:20220327T010000
END:DAYLIGHT
BEGIN:STANDARD
TZOFFSETFROM:+0100
TZOFFSETTO:+0000
TZNAME:GMT
DTSTART:20221030T010000
END:STANDARD
BEGIN:DAYLIGHT
TZOFFSETFROM:+0000
TZOFFSETTO:+0100
TZNAME:BST
DTSTART:20230326T010000
END:DAYLIGHT
BEGIN:STANDARD
TZOFFSETFROM:+0100
TZOFFSETTO:+0000
TZNAME:GMT
DTSTART:20231029T010000
END:STANDARD
BEGIN:DAYLIGHT
TZOFFSETFROM:+0000
TZOFFSETTO:+0100
TZNAME:BST
DTSTART:20240331T010000
END:DAYLIGHT
BEGIN:STANDARD
TZOFFSETFROM:+0100
TZOFFSETTO:+0000
TZNAME:GMT
DTSTART:20241027T010000
END:STANDARD
END:VTIMEZONE
BEGIN:VEVENT
DTSTART;TZID=UTC:20250619T080000
DTEND;TZID=UTC:20250906T170000
DTSTAMP:20260421T152256
CREATED:20250616T143206Z
LAST-MODIFIED:20250616T150649Z
UID:2362-1750320000-1757178000@arisingyouths.com
SUMMARY:Skill Up For Success
DESCRIPTION:Skill Up for Success is a 3-month youth development program by Arising Youth CIC designed to empower young people aged 18–25 with the skills\, mindset\, and confidence they need to thrive in today’s job market—and beyond. \nThe program combines employability\, entrepreneurship\, personal development\, and wellbeing to give participants a well-rounded boost into adulthood and employment.
URL:https://arisingyouths.com/event/skill-up-for-success/
ATTACH;FMTTYPE=image/png:https://arisingyouths.com/wp-content/uploads/2025/06/1-1.png
END:VEVENT
BEGIN:VEVENT
DTSTART;TZID=UTC:20240330T180000
DTEND;TZID=UTC:20240330T200000
DTSTAMP:20260421T152256
CREATED:20240220T120258Z
LAST-MODIFIED:20240220T120313Z
UID:1462-1711821600-1711828800@arisingyouths.com
SUMMARY:Resilient Young Mind
DESCRIPTION:Are you a young person\, a student\, or a recent graduate ready to embark on an inspiring journey towards personal and professional growth? Look no further! Join us at the Arising Youth Conference on the 30th of March for a day filled with empowerment\, networking\, and invaluable insights. \n📅 Date: March 30\, 2024\n🕒 Time: 6PM – 8:30PM\n📍 Location: Village Hotel Coventry \nWhy Attend? \n✨ Network with Like-Minded Individuals: Share experiences\, ideas\, and aspirations in a vibrant and supportive environment. \n✨ Build Confidence: Gain the tools and strategies to boost your confidence and overcome challenges. Our workshops and sessions are designed to empower you to navigate the path ahead with self-assurance. \n✨ Learn from Diverse Perspectives: Hear from a panel of seasoned professionals from diverse backgrounds. Gain valuable insights and advice on career paths\, personal development\, and success from individuals who have thrived in various industries. \n✨ Opportunities Await: Discover potential internship opportunities\, mentorship programs\, and resources that can propel your career forward. This is your chance to explore various paths and make informed decisions about your future.
URL:https://arisingyouths.com/event/resilient-young-mind/
LOCATION:Village Hotel Coventry\, Dolomite Avenue\, Coventry\, CV4 9GZ\, United Kingdom
ATTACH;FMTTYPE=image/png:https://arisingyouths.com/wp-content/uploads/2024/02/MicrosoftTeams-image-18.png
ORGANIZER;CN="Vanessa Yawli":MAILTO:info@arisingyouths.com
END:VEVENT
BEGIN:VEVENT
DTSTART;TZID=UTC:20240113T160000
DTEND;TZID=UTC:20240113T170000
DTSTAMP:20260421T152256
CREATED:20240214T134236Z
LAST-MODIFIED:20240214T134333Z
UID:1459-1705161600-1705165200@arisingyouths.com
SUMMARY:THE SECRETS TO NAVIGATING SUCESS IN YOUR CAREER JOURNEY
DESCRIPTION:
URL:https://arisingyouths.com/event/the-secrets-to-navigating-sucess-in-your-career-journey/
END:VEVENT
BEGIN:VEVENT
DTSTART;TZID=Europe/London:20231220T190000
DTEND;TZID=Europe/London:20231220T203000
DTSTAMP:20260421T152256
CREATED:20231212T220136Z
LAST-MODIFIED:20231213T130452Z
UID:1431-1703098800-1703104200@arisingyouths.com
SUMMARY:Talent Unleashed
DESCRIPTION:An exciting event is heading your way and you don’t want to miss out! \nGet ready for a virtual experience that’s tailor-made for the young\, the bold\, and the talented! \nEvent: Talent Unleashed – Inspiring Youths to start up! \nDate: 20/12/2023 \nTime: 7PM -8:30PM  (GMT) \nWhy Attend? Get ready to be inspired\, motivated\, and connect with like-minded individuals who are rocking the world with their passion and creativity! This event is all about unlocking your potential\, embracing your uniqueness\, and fueling the fire within to achieve your dreams! \nSpecial Features: Keynote Speakers: sharing their success stories hands-on experience. \nNetworking Opportunities: Connect with influencers\, mentors\, and fellow go-getters. \nVirtual Showcase: Witness outstanding talent and creativity. \nHow You Can Join: Simply click to register and join here !
URL:https://arisingyouths.com/event/talent-unleashed/
LOCATION:Online\, United Kingdom
ATTACH;FMTTYPE=image/jpeg:https://arisingyouths.com/wp-content/uploads/2023/12/MicrosoftTeams-image-5.jpg
ORGANIZER;CN="Vanessa Yawli":MAILTO:info@arisingyouths.com
END:VEVENT
BEGIN:VEVENT
DTSTART;TZID=Europe/London:20230930T150000
DTEND;TZID=Europe/London:20230930T170000
DTSTAMP:20260421T152256
CREATED:20230930T170043Z
LAST-MODIFIED:20231206T144406Z
UID:1294-1696086000-1696093200@arisingyouths.com
SUMMARY:Embracing Failure: A path to success
DESCRIPTION:Welcome participants to the workshop and set a positive and encouraging tone. Acknowledge the stigma around failure and emphasize the transformative potential it holds. Briefly share a personal anecdote or examples of successful individuals who overcame failure. \nObjective: Challenge participants’ perceptions of failure \nDiscuss the societal view of failure and its impact on personal and professional growth. \nIntroduce the concept that failure is not the opposite of success but an integral part of the journey. \nEngage participants in a reflective exercise: Share personal experiences of failure and explore the emotions associated with it. \nObjective: Extracting lessons and insights from failure. \nGuide participants through a self-assessment activity: Identify personal strengths and areas for improvement based on past failures. \nShare stories of well-known companies or projects that learned and evolved from failures. \nEncourage participants to set goals and use failure as a stepping stone. \nDiscuss the importance of persistence and adaptability in the face of challenges. \nConclude with a motivational exercise: Participants share their revised perspectives on failure and articulate their future goals.
URL:https://arisingyouths.com/event/tech-talk/
LOCATION:Coventry Community Hall\, 36-72 Cromwell street\, Coventry\, United Kingdom
ATTACH;FMTTYPE=image/jpeg:https://arisingyouths.com/wp-content/uploads/2023/10/freelancer-using-laptop-and-camera-for-recording-v-2022-04-27-03-23-52-utc.jpg
ORGANIZER;CN="Vanessa Yawli":MAILTO:info@arisingyouths.com
END:VEVENT
END:VCALENDAR